BEGIN:VCALENDAR
VERSION:2.0
PRODID:-//Casal Català de Zúric - ECPv6.15.20//NONSGML v1.0//EN
CALSCALE:GREGORIAN
METHOD:PUBLISH
X-WR-CALNAME:Casal Català de Zúric
X-ORIGINAL-URL:https://cczuric.cat
X-WR-CALDESC:Esdeveniments per Casal Català de Zúric
REFRESH-INTERVAL;VALUE=DURATION:PT1H
X-Robots-Tag:noindex
X-PUBLISHED-TTL:PT1H
BEGIN:VTIMEZONE
TZID:Europe/Zurich
BEGIN:DAYLIGHT
TZOFFSETFROM:+0100
TZOFFSETTO:+0200
TZNAME:CEST
DTSTART:20250330T010000
END:DAYLIGHT
BEGIN:STANDARD
TZOFFSETFROM:+0200
TZOFFSETTO:+0100
TZNAME:CET
DTSTART:20251026T010000
END:STANDARD
BEGIN:DAYLIGHT
TZOFFSETFROM:+0100
TZOFFSETTO:+0200
TZNAME:CEST
DTSTART:20260329T010000
END:DAYLIGHT
BEGIN:STANDARD
TZOFFSETFROM:+0200
TZOFFSETTO:+0100
TZNAME:CET
DTSTART:20261025T010000
END:STANDARD
BEGIN:DAYLIGHT
TZOFFSETFROM:+0100
TZOFFSETTO:+0200
TZNAME:CEST
DTSTART:20270328T010000
END:DAYLIGHT
BEGIN:STANDARD
TZOFFSETFROM:+0200
TZOFFSETTO:+0100
TZNAME:CET
DTSTART:20271031T010000
END:STANDARD
END:VTIMEZONE
BEGIN:VEVENT
DTSTART;TZID=Europe/Zurich:20260620T180000
DTEND;TZID=Europe/Zurich:20260620T235500
DTSTAMP:20260426T033015
CREATED:20251129T153125Z
LAST-MODIFIED:20251129T153209Z
UID:4436-1781978400-1781999700@cczuric.cat
SUMMARY:Sant Joan 2026
DESCRIPTION:Aviat més informació.
URL:https://cczuric.cat/esdeveniment/sant-joan-2026/
LOCATION:Quartierzentrum Schütze\, Heinrichstrasse 238\, Zürich\, Zürich\, 8005\, Switzerland
END:VEVENT
END:VCALENDAR