BEGIN:VCALENDAR
VERSION:2.0
PRODID:-//Casal Català de Zúric - ECPv6.15.20//NONSGML v1.0//EN
CALSCALE:GREGORIAN
METHOD:PUBLISH
X-ORIGINAL-URL:https://cczuric.cat
X-WR-CALDESC:Esdeveniments per Casal Català de Zúric
REFRESH-INTERVAL;VALUE=DURATION:PT1H
X-Robots-Tag:noindex
X-PUBLISHED-TTL:PT1H
BEGIN:VTIMEZONE
TZID:Europe/Zurich
BEGIN:DAYLIGHT
TZOFFSETFROM:+0100
TZOFFSETTO:+0200
TZNAME:CEST
DTSTART:20250330T010000
END:DAYLIGHT
BEGIN:STANDARD
TZOFFSETFROM:+0200
TZOFFSETTO:+0100
TZNAME:CET
DTSTART:20251026T010000
END:STANDARD
BEGIN:DAYLIGHT
TZOFFSETFROM:+0100
TZOFFSETTO:+0200
TZNAME:CEST
DTSTART:20260329T010000
END:DAYLIGHT
BEGIN:STANDARD
TZOFFSETFROM:+0200
TZOFFSETTO:+0100
TZNAME:CET
DTSTART:20261025T010000
END:STANDARD
BEGIN:DAYLIGHT
TZOFFSETFROM:+0100
TZOFFSETTO:+0200
TZNAME:CEST
DTSTART:20270328T010000
END:DAYLIGHT
BEGIN:STANDARD
TZOFFSETFROM:+0200
TZOFFSETTO:+0100
TZNAME:CET
DTSTART:20271031T010000
END:STANDARD
END:VTIMEZONE
BEGIN:VEVENT
DTSTART;TZID=Europe/Zurich:20260530T110000
DTEND;TZID=Europe/Zurich:20260530T140000
DTSTAMP:20260426T010152
CREATED:20260115T182112Z
LAST-MODIFIED:20260406T171509Z
UID:4948-1780138800-1780149600@cczuric.cat
SUMMARY:Diada castellera internacional a Zúric
DESCRIPTION:El 30 de maig de 2026 celebrarem la diada castellera més gran mai vista a Zúric! \nEls Castellers de Zürich actuarem amb les nostres colles padrines internacionals: els Xiquets Copenhagen i els Castellers de Paris\, i amb la nostra colla agermada\, els Castellers de Lausanne. \nL’actuació tindrà lloc al Koch Park\, un parc que compta també amb un espai cobert en cas de mal temps\, d’11h a 14h aproximadament. \nDesprés de l’actuació els castellers i castelleres menjarem plegats\, i passarem la resta del dia junts. \nConvidem a tothom a venir i gaudir d’aquesta magnífica diada! \n 
URL:https://cczuric.cat/esdeveniment/diada-internacional/
LOCATION:Koch Park\, Rautistrasse 26\, Zürich\, 8047\, Switzerland
ATTACH;FMTTYPE=image/png:https://cczuric.cat/wp-content/uploads/2026/01/Cartell-diada-padrins.png
END:VEVENT
END:VCALENDAR