BEGIN:VCALENDAR
VERSION:2.0
PRODID:-//Casal Català de Zúric - ECPv6.15.20//NONSGML v1.0//EN
CALSCALE:GREGORIAN
METHOD:PUBLISH
X-ORIGINAL-URL:https://cczuric.cat
X-WR-CALDESC:Esdeveniments per Casal Català de Zúric
REFRESH-INTERVAL;VALUE=DURATION:PT1H
X-Robots-Tag:noindex
X-PUBLISHED-TTL:PT1H
BEGIN:VTIMEZONE
TZID:Europe/Zurich
BEGIN:DAYLIGHT
TZOFFSETFROM:+0100
TZOFFSETTO:+0200
TZNAME:CEST
DTSTART:20250330T010000
END:DAYLIGHT
BEGIN:STANDARD
TZOFFSETFROM:+0200
TZOFFSETTO:+0100
TZNAME:CET
DTSTART:20251026T010000
END:STANDARD
BEGIN:DAYLIGHT
TZOFFSETFROM:+0100
TZOFFSETTO:+0200
TZNAME:CEST
DTSTART:20260329T010000
END:DAYLIGHT
BEGIN:STANDARD
TZOFFSETFROM:+0200
TZOFFSETTO:+0100
TZNAME:CET
DTSTART:20261025T010000
END:STANDARD
BEGIN:DAYLIGHT
TZOFFSETFROM:+0100
TZOFFSETTO:+0200
TZNAME:CEST
DTSTART:20270328T010000
END:DAYLIGHT
BEGIN:STANDARD
TZOFFSETFROM:+0200
TZOFFSETTO:+0100
TZNAME:CET
DTSTART:20271031T010000
END:STANDARD
END:VTIMEZONE
BEGIN:VEVENT
DTSTART;TZID=Europe/Zurich:20260527T180000
DTEND;TZID=Europe/Zurich:20260527T200000
DTSTAMP:20260425T223148
CREATED:20260317T184807Z
LAST-MODIFIED:20260415T102137Z
UID:5709-1779904800-1779912000@cczuric.cat
SUMMARY:Presentació del llibre "Morir sabent poques coses" amb Joan Enric Barceló
DESCRIPTION:Aquest maig us proposem un vespre diferent:\nla presentació del llibre «Morir sabent poques coses» amb l’autor: Joan Enric Barceló.\n  \nLa presentació es farà al Punto de Encuentro\, començarà a les 18 h de la tarda i en acabar\, gaudirem d’un aperitiu tots plegats. \nAquest llibre de relats curts és una lectura perfecta per a aquesta primavera i\, també\, pel seu format\, recomanable per a l’alumnat de català i nouparlants. \nEn Joan Enric Barceló teixeix un univers comú d’una llibertat creativa sense límits\, on la inversemblança i el patetisme conviuen amb la fatalitat i l’estranyesa. Aquests textos\, afilats i perspicaços\, mostren la gran capacitat de l’autor per observar el comportament humà en tota la seva complexitat. \nNo cal que us hagueu llegit el llibre prèviament\, però\, si ho voleu fer\, el trobareu tant a la Biblioteca pública de Catalunya en línia (servei gratuït per a totes les persones inscrites al Registre de catalans i catalanes a l’Exterior)\, com a diverses plataformes de llibres electrònics. Si sou amants dels llibres en paper\, també podreu adquirir-lo a la presentació del llibre! \n  \nJoan Enric Barceló (Vidreres\, 1981) és músic\, compositor i cantant. Llicenciat en filologia anglesa per la UAB i diplomat en interpretació pel Col·legi de Teatre de Barcelona\, és un dels integrants del grup musical Els Amics de les Arts des de la seva fundació l’any 2005. Morir sabent poques coses és el seu primer llibre\, on demostra\, amb sentit de l’humor i una ironia fina\, una gran destresa en la construcció d’imaginaris emocionals individuals i col·lectius.
URL:https://cczuric.cat/esdeveniment/260527/
LOCATION:punto d’incontro / punto de encuentro\, Josefstrasse 102\, Zuric\, Zürich\, 8005\, Suïssa
ATTACH;FMTTYPE=image/jpeg:https://cczuric.cat/wp-content/uploads/2026/03/JOAN-ENRIC.jpg
END:VEVENT
END:VCALENDAR