BEGIN:VCALENDAR
VERSION:2.0
PRODID:-//Casal Català de Zúric - ECPv6.15.20//NONSGML v1.0//EN
CALSCALE:GREGORIAN
METHOD:PUBLISH
X-ORIGINAL-URL:https://cczuric.cat
X-WR-CALDESC:Esdeveniments per Casal Català de Zúric
REFRESH-INTERVAL;VALUE=DURATION:PT1H
X-Robots-Tag:noindex
X-PUBLISHED-TTL:PT1H
BEGIN:VTIMEZONE
TZID:Europe/Zurich
BEGIN:DAYLIGHT
TZOFFSETFROM:+0100
TZOFFSETTO:+0200
TZNAME:CEST
DTSTART:20250330T010000
END:DAYLIGHT
BEGIN:STANDARD
TZOFFSETFROM:+0200
TZOFFSETTO:+0100
TZNAME:CET
DTSTART:20251026T010000
END:STANDARD
BEGIN:DAYLIGHT
TZOFFSETFROM:+0100
TZOFFSETTO:+0200
TZNAME:CEST
DTSTART:20260329T010000
END:DAYLIGHT
BEGIN:STANDARD
TZOFFSETFROM:+0200
TZOFFSETTO:+0100
TZNAME:CET
DTSTART:20261025T010000
END:STANDARD
BEGIN:DAYLIGHT
TZOFFSETFROM:+0100
TZOFFSETTO:+0200
TZNAME:CEST
DTSTART:20270328T010000
END:DAYLIGHT
BEGIN:STANDARD
TZOFFSETFROM:+0200
TZOFFSETTO:+0100
TZNAME:CET
DTSTART:20271031T010000
END:STANDARD
END:VTIMEZONE
BEGIN:VEVENT
DTSTART;TZID=Europe/Zurich:20260411T093000
DTEND;TZID=Europe/Zurich:20260411T110000
DTSTAMP:20260426T014602
CREATED:20260104T193508Z
LAST-MODIFIED:20260314T081156Z
UID:4696-1775899800-1775905200@cczuric.cat
SUMMARY:El Casalet: Tallers familiars 1-3 (11.04.26)
DESCRIPTION:Al Casalet s’organitzen tallers familiars per a famílies catalanoparlants i els seus infants d’1 a 3 anys. L’objectiu d’aquests tallers és fomentar la cultura i l’ús de la llengua catalana mitjançant activitats lúdiques i educatives. Volem crear un espai de confiança i confort\, on les famílies se sentin acollides\, identificades amb d’altres en la mateixa situació i es puguin expressar en la seva llengua d’origen.
URL:https://cczuric.cat/esdeveniment/casalet-familiar-110426/
LOCATION:Zentrum ELCH\, Regensbergstrasse 209\, Zürich\, Zürich\, 8050\, Switzerland
CATEGORIES:El Casalet,Tallers familiars 1-3
END:VEVENT
BEGIN:VEVENT
DTSTART;TZID=Europe/Zurich:20260411T111500
DTEND;TZID=Europe/Zurich:20260411T124500
DTSTAMP:20260426T014603
CREATED:20260104T201125Z
LAST-MODIFIED:20260105T202900Z
UID:4731-1775906100-1775911500@cczuric.cat
SUMMARY:El Casalet: Tallers infantils 4-6 (11.04.26)
DESCRIPTION:El Casalet ofereix tallers infantils els infants catalanoparlants tenen l’oportunitat de parlar i adquirir coneixements sobre la nostra llengua conjuntament amb altres nens i nenes de la seva edat. Els infants poden adquirir i consolidar aquests coneixements mentre juguen a jocs cooperatius o jocs musicals\, fan petites representacions teatrals\, canten cançons\, escolten contes o històries i fan petites creacions artístiques.
URL:https://cczuric.cat/esdeveniment/casalet-infantil-110426/
LOCATION:Zentrum ELCH\, Regensbergstrasse 209\, Zürich\, Zürich\, 8050\, Switzerland
CATEGORIES:El Casalet,Tallers infantils 4-6
END:VEVENT
END:VCALENDAR