BEGIN:VCALENDAR
VERSION:2.0
PRODID:-//Casal Català de Zúric - ECPv6.15.20//NONSGML v1.0//EN
CALSCALE:GREGORIAN
METHOD:PUBLISH
X-ORIGINAL-URL:https://cczuric.cat
X-WR-CALDESC:Esdeveniments per Casal Català de Zúric
REFRESH-INTERVAL;VALUE=DURATION:PT1H
X-Robots-Tag:noindex
X-PUBLISHED-TTL:PT1H
BEGIN:VTIMEZONE
TZID:Europe/Zurich
BEGIN:DAYLIGHT
TZOFFSETFROM:+0100
TZOFFSETTO:+0200
TZNAME:CEST
DTSTART:20250330T010000
END:DAYLIGHT
BEGIN:STANDARD
TZOFFSETFROM:+0200
TZOFFSETTO:+0100
TZNAME:CET
DTSTART:20251026T010000
END:STANDARD
BEGIN:DAYLIGHT
TZOFFSETFROM:+0100
TZOFFSETTO:+0200
TZNAME:CEST
DTSTART:20260329T010000
END:DAYLIGHT
BEGIN:STANDARD
TZOFFSETFROM:+0200
TZOFFSETTO:+0100
TZNAME:CET
DTSTART:20261025T010000
END:STANDARD
BEGIN:DAYLIGHT
TZOFFSETFROM:+0100
TZOFFSETTO:+0200
TZNAME:CEST
DTSTART:20270328T010000
END:DAYLIGHT
BEGIN:STANDARD
TZOFFSETFROM:+0200
TZOFFSETTO:+0100
TZNAME:CET
DTSTART:20271031T010000
END:STANDARD
END:VTIMEZONE
BEGIN:VEVENT
DTSTART;TZID=Europe/Zurich:20260409T173000
DTEND;TZID=Europe/Zurich:20260409T210000
DTSTAMP:20260426T014608
CREATED:20260303T082044Z
LAST-MODIFIED:20260318T153227Z
UID:5592-1775755800-1775768400@cczuric.cat
SUMMARY:La nova mobilitat: The robots are us
DESCRIPTION:IA\, Robòtica i el Futur de la Mobilitat\nLa tecnologia avança més ràpid que mai\, i el sector de la mobilitat està adoptant ràpidament la intel·ligència artificial per accelerar la innovació. En aquesta edició en directe de La Nova Mobilitat\, els presentadors Miquel Testar i Martí Pascual entrevistaran professionals de la robòtica i de la IA física per explorar els darrers avenços que estan transformant la manera com ens movem\, treballem i vivim. \nDesprés de quatre anys d’èxit com a podcast en línia\, La Nova Mobilitat arriba a Zuric — un dels principals hubs europeus d’innovació tecnològica — per parlar de l’expansió de la IA i del creixent paper de la robòtica en la vida quotidiana\, des de l’automatització domèstica intel·ligent fins al transport autònom. \nDurant la vetllada\, Miquel i Martí conversaran amb líders del sector i experts que compartiran idees\, experiències i perspectives sobre la transformació tecnològica que ja està en marxa. \n🎙 Temes que explorarem \n– La robòtica en el seu punt àlgid: des de micro-robots fins a sistemes especialitzats i els nous robots humanoides de propòsit general emergents\n– Pot la indústria robòtica europea competir globalment amb més eficàcia que el seu sector automobilístic?\n– Quines oportunitats de negoci i reptes comuns tenen els ecosistemes tecnològics de Zuric i Barcelona?\n– Vehicles autònoms i robotaxis: pot la IA física ajudar a reduir els accidents de trànsit i millorar la seguretat en la mobilitat? \n🍽 Detalls de l’esdeveniment\nL’esdeveniment tindrà lloc en un ambient distès i festiu al Viadukt de Zuric.\nObertura de portes a les 17:00\, amb inici del podcast en directe a les 17:30. \nHi trobaràs: \n– Entrevistes en directe amb experts\n– Sortejos i sorpreses\n– Oportunitats de networking\n– Menjar i begudes \nDescompte per a Patreons i membres dels nostres patrocinadors \n  \nInscripcions\nAmb el suport de Catalonia Trade & Investment.
URL:https://cczuric.cat/esdeveniment/la-nova-mobilitat-the-robots-are-us/
LOCATION:viadukt\, viaduktsrasse 69/71\, Zuric\, Zúric\, 8005\, Switzerland
ATTACH;FMTTYPE=image/jpeg:https://cczuric.cat/wp-content/uploads/2026/03/WhatsApp-Image-2026-02-13-at-12.09.25.jpeg
END:VEVENT
END:VCALENDAR